BEGIN:VCALENDAR
VERSION:2.0
PRODID:-//St. Andrew Greek Orthodox Church - ECPv6.15.20//NONSGML v1.0//EN
CALSCALE:GREGORIAN
METHOD:PUBLISH
X-WR-CALNAME:St. Andrew Greek Orthodox Church
X-ORIGINAL-URL:https://standrewslo.org
X-WR-CALDESC:Events for St. Andrew Greek Orthodox Church
REFRESH-INTERVAL;VALUE=DURATION:PT1H
X-Robots-Tag:noindex
X-PUBLISHED-TTL:PT1H
BEGIN:VTIMEZONE
TZID:America/Denver
BEGIN:DAYLIGHT
TZOFFSETFROM:-0700
TZOFFSETTO:-0600
TZNAME:MDT
DTSTART:20240310T090000
END:DAYLIGHT
BEGIN:STANDARD
TZOFFSETFROM:-0600
TZOFFSETTO:-0700
TZNAME:MST
DTSTART:20241103T080000
END:STANDARD
BEGIN:DAYLIGHT
TZOFFSETFROM:-0700
TZOFFSETTO:-0600
TZNAME:MDT
DTSTART:20250309T090000
END:DAYLIGHT
BEGIN:STANDARD
TZOFFSETFROM:-0600
TZOFFSETTO:-0700
TZNAME:MST
DTSTART:20251102T080000
END:STANDARD
BEGIN:DAYLIGHT
TZOFFSETFROM:-0700
TZOFFSETTO:-0600
TZNAME:MDT
DTSTART:20260308T090000
END:DAYLIGHT
BEGIN:STANDARD
TZOFFSETFROM:-0600
TZOFFSETTO:-0700
TZNAME:MST
DTSTART:20261101T080000
END:STANDARD
END:VTIMEZONE
BEGIN:VEVENT
DTSTART;TZID=America/Denver:20250419T000000
DTEND;TZID=America/Denver:20250420T030000
DTSTAMP:20260420T184053
CREATED:20250326T194405Z
LAST-MODIFIED:20250326T194405Z
UID:627-1745020800-1745118000@standrewslo.org
SUMMARY:Holy Saturday - The Resurrection Service & Divine Liturgy - Christ is Risen!
DESCRIPTION:
URL:https://standrewslo.org/event/holy-saturday-the-resurrection-service-divine-liturgy-christ-is-risen/
LOCATION:St. Andrew Greek Orthodox Church\, St. Andrew Greek Orthodox Church\, San Luis Obispo\, 93405\, United States
CATEGORIES:Church Services
END:VEVENT
BEGIN:VEVENT
DTSTART;TZID=America/Denver:20250419T090000
DTEND;TZID=America/Denver:20250419T113000
DTSTAMP:20260420T184053
CREATED:20250326T193745Z
LAST-MODIFIED:20250326T193745Z
UID:620-1745053200-1745062200@standrewslo.org
SUMMARY:Holy Saturday Divine Liturgy of St. Basil (Arise\, O God!)
DESCRIPTION:
URL:https://standrewslo.org/event/holy-saturday-divine-liturgy-of-st-basil-arise-o-god/
LOCATION:St. Andrew Greek Orthodox Church\, St. Andrew Greek Orthodox Church\, San Luis Obispo\, 93405\, United States
CATEGORIES:Church Services
END:VEVENT
BEGIN:VEVENT
DTSTART;TZID=America/Denver:20250419T230000
DTEND;TZID=America/Denver:20250419T235000
DTSTAMP:20260420T184053
CREATED:20250326T193921Z
LAST-MODIFIED:20250326T194023Z
UID:622-1745103600-1745106600@standrewslo.org
SUMMARY:Holy Saturday - Paschal Vigil for the Holy Resurrection "Come Receive the Light"
DESCRIPTION:
URL:https://standrewslo.org/event/holy-saturday-paschal-vigil-for-the-holy-resurrection/
LOCATION:St. Andrew Greek Orthodox Church\, St. Andrew Greek Orthodox Church\, San Luis Obispo\, 93405\, United States
CATEGORIES:Church Services
END:VEVENT
END:VCALENDAR