BEGIN:VCALENDAR
VERSION:2.0
PRODID:-//St. Andrew Greek Orthodox Church - ECPv6.15.20//NONSGML v1.0//EN
CALSCALE:GREGORIAN
METHOD:PUBLISH
X-ORIGINAL-URL:https://standrewslo.org
X-WR-CALDESC:Events for St. Andrew Greek Orthodox Church
REFRESH-INTERVAL;VALUE=DURATION:PT1H
X-Robots-Tag:noindex
X-PUBLISHED-TTL:PT1H
BEGIN:VTIMEZONE
TZID:America/Denver
BEGIN:DAYLIGHT
TZOFFSETFROM:-0700
TZOFFSETTO:-0600
TZNAME:MDT
DTSTART:20240310T090000
END:DAYLIGHT
BEGIN:STANDARD
TZOFFSETFROM:-0600
TZOFFSETTO:-0700
TZNAME:MST
DTSTART:20241103T080000
END:STANDARD
BEGIN:DAYLIGHT
TZOFFSETFROM:-0700
TZOFFSETTO:-0600
TZNAME:MDT
DTSTART:20250309T090000
END:DAYLIGHT
BEGIN:STANDARD
TZOFFSETFROM:-0600
TZOFFSETTO:-0700
TZNAME:MST
DTSTART:20251102T080000
END:STANDARD
BEGIN:DAYLIGHT
TZOFFSETFROM:-0700
TZOFFSETTO:-0600
TZNAME:MDT
DTSTART:20260308T090000
END:DAYLIGHT
BEGIN:STANDARD
TZOFFSETFROM:-0600
TZOFFSETTO:-0700
TZNAME:MST
DTSTART:20261101T080000
END:STANDARD
END:VTIMEZONE
BEGIN:VEVENT
DTSTART;TZID=America/Denver:20250418T090000
DTEND;TZID=America/Denver:20250418T110000
DTSTAMP:20260420T184218
CREATED:20250326T193333Z
LAST-MODIFIED:20250326T193333Z
UID:614-1744966800-1744974000@standrewslo.org
SUMMARY:Holy Friday - The Royal Hours
DESCRIPTION:
URL:https://standrewslo.org/event/holy-friday-the-royal-hours/
LOCATION:St. Andrew Greek Orthodox Church\, St. Andrew Greek Orthodox Church\, San Luis Obispo\, 93405\, United States
CATEGORIES:Church Services
END:VEVENT
BEGIN:VEVENT
DTSTART;TZID=America/Denver:20250418T150000
DTEND;TZID=America/Denver:20250418T160000
DTSTAMP:20260420T184218
CREATED:20250326T193453Z
LAST-MODIFIED:20250326T195236Z
UID:616-1744988400-1744992000@standrewslo.org
SUMMARY:Holy Friday - The Descent from the Cross
DESCRIPTION:
URL:https://standrewslo.org/event/holy-friday-the-descent-from-the-cross/
LOCATION:St. Andrew Greek Orthodox Church\, St. Andrew Greek Orthodox Church\, San Luis Obispo\, 93405\, United States
CATEGORIES:Church Services
END:VEVENT
BEGIN:VEVENT
DTSTART;TZID=America/Denver:20250418T183000
DTEND;TZID=America/Denver:20250418T220000
DTSTAMP:20260420T184218
CREATED:20250326T193621Z
LAST-MODIFIED:20250326T193621Z
UID:618-1745001000-1745013600@standrewslo.org
SUMMARY:Holy Friday - The Graveside Lamentations
DESCRIPTION:
URL:https://standrewslo.org/event/holy-friday-the-graveside-lamentations/
LOCATION:St. Andrew Greek Orthodox Church\, St. Andrew Greek Orthodox Church\, San Luis Obispo\, 93405\, United States
CATEGORIES:Church Services
END:VEVENT
END:VCALENDAR