BEGIN:VCALENDAR
VERSION:2.0
PRODID:-//St. Andrew Greek Orthodox Church - ECPv6.15.20//NONSGML v1.0//EN
CALSCALE:GREGORIAN
METHOD:PUBLISH
X-WR-CALNAME:St. Andrew Greek Orthodox Church
X-ORIGINAL-URL:https://standrewslo.org
X-WR-CALDESC:Events for St. Andrew Greek Orthodox Church
REFRESH-INTERVAL;VALUE=DURATION:PT1H
X-Robots-Tag:noindex
X-PUBLISHED-TTL:PT1H
BEGIN:VTIMEZONE
TZID:America/Denver
BEGIN:DAYLIGHT
TZOFFSETFROM:-0700
TZOFFSETTO:-0600
TZNAME:MDT
DTSTART:20240310T090000
END:DAYLIGHT
BEGIN:STANDARD
TZOFFSETFROM:-0600
TZOFFSETTO:-0700
TZNAME:MST
DTSTART:20241103T080000
END:STANDARD
BEGIN:DAYLIGHT
TZOFFSETFROM:-0700
TZOFFSETTO:-0600
TZNAME:MDT
DTSTART:20250309T090000
END:DAYLIGHT
BEGIN:STANDARD
TZOFFSETFROM:-0600
TZOFFSETTO:-0700
TZNAME:MST
DTSTART:20251102T080000
END:STANDARD
BEGIN:DAYLIGHT
TZOFFSETFROM:-0700
TZOFFSETTO:-0600
TZNAME:MDT
DTSTART:20260308T090000
END:DAYLIGHT
BEGIN:STANDARD
TZOFFSETFROM:-0600
TZOFFSETTO:-0700
TZNAME:MST
DTSTART:20261101T080000
END:STANDARD
END:VTIMEZONE
BEGIN:VEVENT
DTSTART;TZID=America/Denver:20250413T090000
DTEND;TZID=America/Denver:20250413T130000
DTSTAMP:20260420T184049
CREATED:20250326T192225Z
LAST-MODIFIED:20250326T192225Z
UID:598-1744534800-1744549200@standrewslo.org
SUMMARY:Palm Sunday
DESCRIPTION:Orthros 9:00 am Divine Liturgy 10:00 am \nFish luncheon sponsored by the Parish Council
URL:https://standrewslo.org/event/palm-sunday/
LOCATION:St. Andrew Greek Orthodox Church\, St. Andrew Greek Orthodox Church\, San Luis Obispo\, 93405\, United States
CATEGORIES:Church Services
END:VEVENT
BEGIN:VEVENT
DTSTART;TZID=America/Denver:20250413T183000
DTEND;TZID=America/Denver:20250413T200000
DTSTAMP:20260420T184049
CREATED:20250326T192333Z
LAST-MODIFIED:20250326T192333Z
UID:601-1744569000-1744574400@standrewslo.org
SUMMARY:Bridegroom service
DESCRIPTION:
URL:https://standrewslo.org/event/bridegroom-service/
LOCATION:St. Andrew Greek Orthodox Church\, St. Andrew Greek Orthodox Church\, San Luis Obispo\, 93405\, United States
CATEGORIES:Church Services
END:VEVENT
END:VCALENDAR