BEGIN:VCALENDAR
VERSION:2.0
PRODID:-//St. Andrew Greek Orthodox Church - ECPv6.15.20//NONSGML v1.0//EN
CALSCALE:GREGORIAN
METHOD:PUBLISH
X-ORIGINAL-URL:https://standrewslo.org
X-WR-CALDESC:Events for St. Andrew Greek Orthodox Church
REFRESH-INTERVAL;VALUE=DURATION:PT1H
X-Robots-Tag:noindex
X-PUBLISHED-TTL:PT1H
BEGIN:VTIMEZONE
TZID:America/Denver
BEGIN:DAYLIGHT
TZOFFSETFROM:-0700
TZOFFSETTO:-0600
TZNAME:MDT
DTSTART:20240310T090000
END:DAYLIGHT
BEGIN:STANDARD
TZOFFSETFROM:-0600
TZOFFSETTO:-0700
TZNAME:MST
DTSTART:20241103T080000
END:STANDARD
BEGIN:DAYLIGHT
TZOFFSETFROM:-0700
TZOFFSETTO:-0600
TZNAME:MDT
DTSTART:20250309T090000
END:DAYLIGHT
BEGIN:STANDARD
TZOFFSETFROM:-0600
TZOFFSETTO:-0700
TZNAME:MST
DTSTART:20251102T080000
END:STANDARD
BEGIN:DAYLIGHT
TZOFFSETFROM:-0700
TZOFFSETTO:-0600
TZNAME:MDT
DTSTART:20260308T090000
END:DAYLIGHT
BEGIN:STANDARD
TZOFFSETFROM:-0600
TZOFFSETTO:-0700
TZNAME:MST
DTSTART:20261101T080000
END:STANDARD
END:VTIMEZONE
BEGIN:VEVENT
DTSTART;TZID=America/Denver:20250903T173000
DTEND;TZID=America/Denver:20250903T183000
DTSTAMP:20260420T102208
CREATED:20250828T002351Z
LAST-MODIFIED:20250828T002351Z
UID:719-1756920600-1756924200@standrewslo.org
SUMMARY:Catechism
DESCRIPTION:
URL:https://standrewslo.org/event/catechism-2/
LOCATION:St. Andrew Greek Orthodox Church\, St. Andrew Greek Orthodox Church\, San Luis Obispo\, 93405\, United States
CATEGORIES:Church Services
END:VEVENT
BEGIN:VEVENT
DTSTART;TZID=America/Denver:20250903T183000
DTEND;TZID=America/Denver:20250903T193000
DTSTAMP:20260420T102208
CREATED:20250828T002645Z
LAST-MODIFIED:20250828T002645Z
UID:727-1756924200-1756927800@standrewslo.org
SUMMARY:Bible Study
DESCRIPTION:
URL:https://standrewslo.org/event/bible-study-2/
LOCATION:St. Andrew Greek Orthodox Church\, St. Andrew Greek Orthodox Church\, San Luis Obispo\, 93405\, United States
CATEGORIES:Church Services
END:VEVENT
BEGIN:VEVENT
DTSTART;TZID=America/Denver:20250907T084500
DTEND;TZID=America/Denver:20250907T130000
DTSTAMP:20260420T102208
CREATED:20250827T180733Z
LAST-MODIFIED:20250827T180733Z
UID:696-1757234700-1757250000@standrewslo.org
SUMMARY:8:45am Orthros 10:00 am Divine Liturgy
DESCRIPTION:
URL:https://standrewslo.org/event/845am-orthros-1000-am-divine-liturgy-37/
LOCATION:St. Andrew Greek Orthodox Church\, St. Andrew Greek Orthodox Church\, San Luis Obispo\, 93405\, United States
CATEGORIES:Church Services
END:VEVENT
BEGIN:VEVENT
DTSTART;TZID=America/Denver:20250910T173000
DTEND;TZID=America/Denver:20250910T183000
DTSTAMP:20260420T102208
CREATED:20250828T002446Z
LAST-MODIFIED:20250828T002446Z
UID:721-1757525400-1757529000@standrewslo.org
SUMMARY:Catechism
DESCRIPTION:
URL:https://standrewslo.org/event/catechism-3/
LOCATION:St. Andrew Greek Orthodox Church\, St. Andrew Greek Orthodox Church\, San Luis Obispo\, 93405\, United States
CATEGORIES:Church Services
END:VEVENT
BEGIN:VEVENT
DTSTART;TZID=America/Denver:20250910T183000
DTEND;TZID=America/Denver:20250910T193000
DTSTAMP:20260420T102208
CREATED:20250828T002728Z
LAST-MODIFIED:20250828T002728Z
UID:729-1757529000-1757532600@standrewslo.org
SUMMARY:Bible Study
DESCRIPTION:
URL:https://standrewslo.org/event/bible-study-3/
LOCATION:St. Andrew Greek Orthodox Church\, St. Andrew Greek Orthodox Church\, San Luis Obispo\, 93405\, United States
CATEGORIES:Church Services
END:VEVENT
BEGIN:VEVENT
DTSTART;TZID=America/Denver:20250914T084500
DTEND;TZID=America/Denver:20250914T130000
DTSTAMP:20260420T102208
CREATED:20250827T180841Z
LAST-MODIFIED:20250827T180841Z
UID:698-1757839500-1757854800@standrewslo.org
SUMMARY:8:45am Orthros 10:00 am Divine Liturgy
DESCRIPTION:
URL:https://standrewslo.org/event/845am-orthros-1000-am-divine-liturgy-38/
LOCATION:St. Andrew Greek Orthodox Church\, St. Andrew Greek Orthodox Church\, San Luis Obispo\, 93405\, United States
CATEGORIES:Church Services
END:VEVENT
BEGIN:VEVENT
DTSTART;TZID=America/Denver:20250917T173000
DTEND;TZID=America/Denver:20250917T183000
DTSTAMP:20260420T102208
CREATED:20250828T002521Z
LAST-MODIFIED:20250828T002521Z
UID:723-1758130200-1758133800@standrewslo.org
SUMMARY:Catechism
DESCRIPTION:
URL:https://standrewslo.org/event/catechism-4/
LOCATION:St. Andrew Greek Orthodox Church\, St. Andrew Greek Orthodox Church\, San Luis Obispo\, 93405\, United States
CATEGORIES:Church Services
END:VEVENT
BEGIN:VEVENT
DTSTART;TZID=America/Denver:20250917T183000
DTEND;TZID=America/Denver:20250917T193000
DTSTAMP:20260420T102208
CREATED:20250828T002808Z
LAST-MODIFIED:20250828T002808Z
UID:731-1758133800-1758137400@standrewslo.org
SUMMARY:Bible Study
DESCRIPTION:
URL:https://standrewslo.org/event/bible-study-4/
LOCATION:St. Andrew Greek Orthodox Church\, St. Andrew Greek Orthodox Church\, San Luis Obispo\, 93405\, United States
CATEGORIES:Church Services
END:VEVENT
BEGIN:VEVENT
DTSTART;TZID=America/Denver:20250921T084500
DTEND;TZID=America/Denver:20250921T130000
DTSTAMP:20260420T102208
CREATED:20250827T180930Z
LAST-MODIFIED:20250827T180930Z
UID:700-1758444300-1758459600@standrewslo.org
SUMMARY:8:45am Orthros 10:00 am Divine Liturgy
DESCRIPTION:
URL:https://standrewslo.org/event/845am-orthros-1000-am-divine-liturgy-39/
LOCATION:St. Andrew Greek Orthodox Church\, St. Andrew Greek Orthodox Church\, San Luis Obispo\, 93405\, United States
CATEGORIES:Church Services
END:VEVENT
BEGIN:VEVENT
DTSTART;TZID=America/Denver:20250924T173000
DTEND;TZID=America/Denver:20250924T183000
DTSTAMP:20260420T102208
CREATED:20250828T002602Z
LAST-MODIFIED:20250828T002602Z
UID:725-1758735000-1758738600@standrewslo.org
SUMMARY:Catechism
DESCRIPTION:
URL:https://standrewslo.org/event/catechism-5/
LOCATION:St. Andrew Greek Orthodox Church\, St. Andrew Greek Orthodox Church\, San Luis Obispo\, 93405\, United States
CATEGORIES:Church Services
END:VEVENT
BEGIN:VEVENT
DTSTART;TZID=America/Denver:20250924T183000
DTEND;TZID=America/Denver:20250924T193000
DTSTAMP:20260420T102208
CREATED:20250828T002842Z
LAST-MODIFIED:20250828T002842Z
UID:733-1758738600-1758742200@standrewslo.org
SUMMARY:Bible Study
DESCRIPTION:
URL:https://standrewslo.org/event/bible-study-5/
LOCATION:St. Andrew Greek Orthodox Church\, St. Andrew Greek Orthodox Church\, San Luis Obispo\, 93405\, United States
CATEGORIES:Church Services
END:VEVENT
BEGIN:VEVENT
DTSTART;TZID=America/Denver:20250928T084500
DTEND;TZID=America/Denver:20250928T130000
DTSTAMP:20260420T102208
CREATED:20250827T181026Z
LAST-MODIFIED:20250827T181026Z
UID:702-1759049100-1759064400@standrewslo.org
SUMMARY:8:45am Orthros 10:00 am Divine Liturgy
DESCRIPTION:
URL:https://standrewslo.org/event/845am-orthros-1000-am-divine-liturgy-40/
LOCATION:St. Andrew Greek Orthodox Church\, St. Andrew Greek Orthodox Church\, San Luis Obispo\, 93405\, United States
CATEGORIES:Church Services
END:VEVENT
END:VCALENDAR