BEGIN:VCALENDAR
VERSION:2.0
PRODID:-//St. Andrew Greek Orthodox Church - ECPv6.15.20//NONSGML v1.0//EN
CALSCALE:GREGORIAN
METHOD:PUBLISH
X-ORIGINAL-URL:https://standrewslo.org
X-WR-CALDESC:Events for St. Andrew Greek Orthodox Church
REFRESH-INTERVAL;VALUE=DURATION:PT1H
X-Robots-Tag:noindex
X-PUBLISHED-TTL:PT1H
BEGIN:VTIMEZONE
TZID:America/Denver
BEGIN:DAYLIGHT
TZOFFSETFROM:-0700
TZOFFSETTO:-0600
TZNAME:MDT
DTSTART:20230312T090000
END:DAYLIGHT
BEGIN:STANDARD
TZOFFSETFROM:-0600
TZOFFSETTO:-0700
TZNAME:MST
DTSTART:20231105T080000
END:STANDARD
BEGIN:DAYLIGHT
TZOFFSETFROM:-0700
TZOFFSETTO:-0600
TZNAME:MDT
DTSTART:20240310T090000
END:DAYLIGHT
BEGIN:STANDARD
TZOFFSETFROM:-0600
TZOFFSETTO:-0700
TZNAME:MST
DTSTART:20241103T080000
END:STANDARD
BEGIN:DAYLIGHT
TZOFFSETFROM:-0700
TZOFFSETTO:-0600
TZNAME:MDT
DTSTART:20250309T090000
END:DAYLIGHT
BEGIN:STANDARD
TZOFFSETFROM:-0600
TZOFFSETTO:-0700
TZNAME:MST
DTSTART:20251102T080000
END:STANDARD
END:VTIMEZONE
BEGIN:VEVENT
DTSTART;TZID=America/Denver:20241130T090000
DTEND;TZID=America/Denver:20241130T130000
DTSTAMP:20260420T135302
CREATED:20241121T202541Z
LAST-MODIFIED:20241121T202637Z
UID:494-1732957200-1732971600@standrewslo.org
SUMMARY:Saint Andrew Feast Day -  Orthros a 9:00 a.m. and Divine Liturgy at 10:00 a.m
DESCRIPTION:On Saturday\, November 30th We will celebrate the Divine Liturgy beginning with Orthros a 9:00 a.m. and Divine Liturgy at 10:00 a.m. His Eminence\, Metropolitan Gerasimos of San Francisco will be presiding Over the service.
URL:https://standrewslo.org/event/saint-andrew-feast-day-orthros-a-900-a-m-and-divine-liturgy-at-1000-a-m/
LOCATION:St. Andrew Greek Orthodox Church\, St. Andrew Greek Orthodox Church\, San Luis Obispo\, 93405\, United States
END:VEVENT
END:VCALENDAR